BEGIN:VCALENDAR
VERSION:2.0
PRODID:-//eventon.com NONSGML v1.0//EN
CALSCALE:GREGORIAN
METHOD:PUBLISH
BEGIN:VEVENT
UID:69e749ac41d3a
DTSTAMP:20260421T095556Z
DTSTART:20251120T080000Z
DTEND:20251121T160000Z
LOCATION:h3O ! 10 B\,  boulevard François Blancho\,  44200 Nantes
SUMMARY:Interagir autrement avec la méthode des couleurs [CSI]
DESCRIPTION:Organisée sur 2 jours\,  cette formation « Interagir autreme
 nt avec la méthode des couleurs » a pour objectifs de permettre aux part
 icipants d&rsquo;améliorer leur communication et de : Mieux se connaître 
 et identifier ses forces et faiblesses dans l’exercice de la vente ou du 
 management Gagner en flexibilité en apprenant à s’adapter[..]\nhttps://
 h3o.positive-web.fr/events/interagir-autrement-couleurs-novembre/
URL:https://h3o.positive-web.fr/events/interagir-autrement-couleurs-novembre/
END:VEVENT
END:VCALENDAR