BEGIN:VCALENDAR
VERSION:2.0
PRODID:-//eventon.com NONSGML v1.0//EN
CALSCALE:GREGORIAN
METHOD:PUBLISH
BEGIN:VEVENT
UID:69e5e5d812765
DTSTAMP:20260420T083744Z
DTSTART:20250522T070000Z
DTEND:20250523T150000Z
LOCATION:h3O ! 10 B\,  boulevard François Blancho\,  44200 Nantes
SUMMARY:Manager en situation tendue [MUST]
DESCRIPTION:Organisée sur 2 jours\,  cette formation « Manager en situat
 ion tendue » a pour objectifs de permettre aux participants de : Repérer
  et connaître les mécanismes des conflits\,  Faire face aux désaccords a
 vec diplomatie et assurance\,  Mettre en œuvre des outils de régulation\,
   de médiation et d’arbitrage pour sortir d’un conflit. Ici[..]\nhttps
 ://h3o.positive-web.fr/events/formation-manager-situation-tendue-crise/
URL:https://h3o.positive-web.fr/events/formation-manager-situation-tendue-crise/
END:VEVENT
END:VCALENDAR